BEGIN:VCALENDAR
VERSION:2.0
PRODID:-//Southern Ohio PGA - ECPv6.15.20//NONSGML v1.0//EN
CALSCALE:GREGORIAN
METHOD:PUBLISH
X-WR-CALNAME:Southern Ohio PGA
X-ORIGINAL-URL:https://thesouthernohiopga.com
X-WR-CALDESC:Events for Southern Ohio PGA
REFRESH-INTERVAL;VALUE=DURATION:PT1H
X-Robots-Tag:noindex
X-PUBLISHED-TTL:PT1H
BEGIN:VTIMEZONE
TZID:UTC
BEGIN:STANDARD
TZOFFSETFROM:+0000
TZOFFSETTO:+0000
TZNAME:UTC
DTSTART:20210101T000000
END:STANDARD
END:VTIMEZONE
BEGIN:VEVENT
DTSTART;TZID=UTC:20220308T080000
DTEND;TZID=UTC:20220308T150000
DTSTAMP:20260425T131631
CREATED:20220218T145524Z
LAST-MODIFIED:20220218T145524Z
UID:10000473-1646726400-1646751600@thesouthernohiopga.com
SUMMARY:Adaptive Golf Training
DESCRIPTION:Southern Ohio PGA Professionals are invited to attend an Adaptive Golf Training with PGA HOPE National Instructor Joseph Grohman presented by PGA REACH Southern Ohio and Southern Ohio PGA HOPE. \n  \nClick here to register for the March 8\, 2022 training.
URL:https://thesouthernohiopga.com/event/adaptive-golf-training/
LOCATION:Meadow Links & Golf Academy\, 10999 Mill Road\, Cincinnati\, Ohio\, 45240
GEO:39.2748874;-84.5476888
X-APPLE-STRUCTURED-LOCATION;VALUE=URI;X-ADDRESS=Meadow Links & Golf Academy 10999 Mill Road Cincinnati Ohio 45240;X-APPLE-RADIUS=500;X-TITLE=10999 Mill Road:geo:-84.5476888,39.2748874
END:VEVENT
END:VCALENDAR