BEGIN:VCALENDAR
VERSION:2.0
PRODID:-//Southern Ohio PGA - ECPv6.15.20//NONSGML v1.0//EN
CALSCALE:GREGORIAN
METHOD:PUBLISH
X-WR-CALNAME:Southern Ohio PGA
X-ORIGINAL-URL:https://thesouthernohiopga.com
X-WR-CALDESC:Events for Southern Ohio PGA
REFRESH-INTERVAL;VALUE=DURATION:PT1H
X-Robots-Tag:noindex
X-PUBLISHED-TTL:PT1H
BEGIN:VTIMEZONE
TZID:UTC
BEGIN:STANDARD
TZOFFSETFROM:+0000
TZOFFSETTO:+0000
TZNAME:UTC
DTSTART:20250101T000000
END:STANDARD
END:VTIMEZONE
BEGIN:VEVENT
DTSTART;TZID=UTC:20260312T000000
DTEND;TZID=UTC:20260312T000000
DTSTAMP:20260420T005128
CREATED:20260223T224336Z
LAST-MODIFIED:20260223T224419Z
UID:10000877-1773273600-1773273600@thesouthernohiopga.com
SUMMARY:SOPGA Teaching & Coaching & Club Fitting
DESCRIPTION:
URL:https://thesouthernohiopga.com/event/sopga-teaching-coaching-club-fitting/
LOCATION:NCR Country Club\, 4435 Dogwood Trail\, Kettering\, OH\, 45429
GEO:39.6866761;-84.191002
X-APPLE-STRUCTURED-LOCATION;VALUE=URI;X-ADDRESS=NCR Country Club 4435 Dogwood Trail Kettering OH 45429;X-APPLE-RADIUS=500;X-TITLE=4435 Dogwood Trail:geo:-84.191002,39.6866761
END:VEVENT
BEGIN:VEVENT
DTSTART;VALUE=DATE:20260312
DTEND;VALUE=DATE:20260313
DTSTAMP:20260420T005128
CREATED:20260223T161429Z
LAST-MODIFIED:20260223T161429Z
UID:10000872-1773273600-1773359999@thesouthernohiopga.com
SUMMARY:Teaching\, Coaching & Club Fitting Summit
DESCRIPTION:
URL:https://thesouthernohiopga.com/event/teaching-coaching-club-fitting-summit/
LOCATION:NCR Country Club\, 4435 Dogwood Trail\, Kettering\, OH\, 45429
GEO:39.6866761;-84.191002
X-APPLE-STRUCTURED-LOCATION;VALUE=URI;X-ADDRESS=NCR Country Club 4435 Dogwood Trail Kettering OH 45429;X-APPLE-RADIUS=500;X-TITLE=4435 Dogwood Trail:geo:-84.191002,39.6866761
END:VEVENT
BEGIN:VEVENT
DTSTART;TZID=UTC:20260330T000000
DTEND;TZID=UTC:20260331T000000
DTSTAMP:20260420T005128
CREATED:20260223T224336Z
LAST-MODIFIED:20260223T224336Z
UID:10000880-1774828800-1774915200@thesouthernohiopga.com
SUMMARY:Greater Cincinnati Match Play Championship
DESCRIPTION:
URL:https://thesouthernohiopga.com/event/greater-cincinnati-match-play-championship-4/
END:VEVENT
END:VCALENDAR