BEGIN:VCALENDAR
VERSION:2.0
PRODID:-//Southern Ohio PGA - ECPv6.15.20//NONSGML v1.0//EN
CALSCALE:GREGORIAN
METHOD:PUBLISH
X-ORIGINAL-URL:https://thesouthernohiopga.com
X-WR-CALDESC:Events for Southern Ohio PGA
REFRESH-INTERVAL;VALUE=DURATION:PT1H
X-Robots-Tag:noindex
X-PUBLISHED-TTL:PT1H
BEGIN:VTIMEZONE
TZID:UTC
BEGIN:STANDARD
TZOFFSETFROM:+0000
TZOFFSETTO:+0000
TZNAME:UTC
DTSTART:20230101T000000
END:STANDARD
END:VTIMEZONE
BEGIN:VEVENT
DTSTART;TZID=UTC:20240408T000000
DTEND;TZID=UTC:20240408T000000
DTSTAMP:20260420T212013
CREATED:20240221T194425Z
LAST-MODIFIED:20240221T194425Z
UID:10000737-1712534400-1712534400@thesouthernohiopga.com
SUMMARY:SOPGA Spring Meeting & Pro-Pro
DESCRIPTION:
URL:https://thesouthernohiopga.com/event/sopga-spring-meeting-pro-pro-4/
CATEGORIES:Meeting
END:VEVENT
BEGIN:VEVENT
DTSTART;TZID=UTC:20240408T080000
DTEND;TZID=UTC:20240408T170000
DTSTAMP:20260420T212013
CREATED:20240216T202504Z
LAST-MODIFIED:20240216T202504Z
UID:10000705-1712563200-1712595600@thesouthernohiopga.com
SUMMARY:SOPGA Spring Membership Meeting
DESCRIPTION:
URL:https://thesouthernohiopga.com/event/sopga-spring-membership-meeting/
LOCATION:Golf Club at Yankee Trace\, 10000 Yankee Street\, Centerville\, OH\, 45458\, United States
GEO:39.5988993;-84.1974712
X-APPLE-STRUCTURED-LOCATION;VALUE=URI;X-ADDRESS=Golf Club at Yankee Trace 10000 Yankee Street Centerville OH 45458 United States;X-APPLE-RADIUS=500;X-TITLE=10000 Yankee Street:geo:-84.1974712,39.5988993
END:VEVENT
BEGIN:VEVENT
DTSTART;TZID=UTC:20240415T000000
DTEND;TZID=UTC:20240415T000000
DTSTAMP:20260420T212013
CREATED:20240221T194712Z
LAST-MODIFIED:20240221T194712Z
UID:10000741-1713139200-1713139200@thesouthernohiopga.com
SUMMARY:PGA HOPE Great Parks - League Play
DESCRIPTION:
URL:https://thesouthernohiopga.com/event/pga-hope-great-parks-league-play/
CATEGORIES:PGA HOPE
END:VEVENT
BEGIN:VEVENT
DTSTART;TZID=UTC:20240415T000000
DTEND;TZID=UTC:20240416T000000
DTSTAMP:20260420T212013
CREATED:20240221T192546Z
LAST-MODIFIED:20240221T192546Z
UID:10000707-1713139200-1713225600@thesouthernohiopga.com
SUMMARY:Match Play Championship
DESCRIPTION:
URL:https://thesouthernohiopga.com/event/match-play-championship/
CATEGORIES:Section Event
END:VEVENT
BEGIN:VEVENT
DTSTART;TZID=UTC:20240417T000000
DTEND;TZID=UTC:20240417T000000
DTSTAMP:20260420T212013
CREATED:20240221T194712Z
LAST-MODIFIED:20240221T194712Z
UID:10000742-1713312000-1713312000@thesouthernohiopga.com
SUMMARY:PGA HOPE Centerville - Spring Session 1
DESCRIPTION:
URL:https://thesouthernohiopga.com/event/pga-hope-centerville-spring-session-1/
CATEGORIES:PGA HOPE
END:VEVENT
BEGIN:VEVENT
DTSTART;TZID=UTC:20240422T000000
DTEND;TZID=UTC:20240422T000000
DTSTAMP:20260420T212013
CREATED:20240221T192547Z
LAST-MODIFIED:20240221T192547Z
UID:10000708-1713744000-1713744000@thesouthernohiopga.com
SUMMARY:Spring Pro-Pro
DESCRIPTION:
URL:https://thesouthernohiopga.com/event/spring-pro-pro/
CATEGORIES:Section Event
END:VEVENT
BEGIN:VEVENT
DTSTART;TZID=UTC:20240424T000000
DTEND;TZID=UTC:20240424T000000
DTSTAMP:20260420T212013
CREATED:20240221T194713Z
LAST-MODIFIED:20240221T194713Z
UID:10000743-1713916800-1713916800@thesouthernohiopga.com
SUMMARY:PGA HOPE Centerville - Spring Session 1
DESCRIPTION:
URL:https://thesouthernohiopga.com/event/pga-hope-centerville-spring-session-1-2/
CATEGORIES:PGA HOPE
END:VEVENT
BEGIN:VEVENT
DTSTART;TZID=UTC:20240424T000000
DTEND;TZID=UTC:20240424T000000
DTSTAMP:20260420T212013
CREATED:20240221T194717Z
LAST-MODIFIED:20240221T194717Z
UID:10000744-1713916800-1713916800@thesouthernohiopga.com
SUMMARY:PGA HOPE Columbus - Graduate Academy
DESCRIPTION:
URL:https://thesouthernohiopga.com/event/pga-hope-columbus-graduate-academy/
CATEGORIES:PGA HOPE
END:VEVENT
BEGIN:VEVENT
DTSTART;TZID=UTC:20240429T000000
DTEND;TZID=UTC:20240429T000000
DTSTAMP:20260420T212013
CREATED:20240221T192547Z
LAST-MODIFIED:20240221T192547Z
UID:10000709-1714348800-1714348800@thesouthernohiopga.com
SUMMARY:Pro-Am #1
DESCRIPTION:
URL:https://thesouthernohiopga.com/event/pro-am-1/
CATEGORIES:Section Event
END:VEVENT
BEGIN:VEVENT
DTSTART;TZID=UTC:20240429T000000
DTEND;TZID=UTC:20240429T000000
DTSTAMP:20260420T212013
CREATED:20240221T194718Z
LAST-MODIFIED:20240221T194718Z
UID:10000745-1714348800-1714348800@thesouthernohiopga.com
SUMMARY:PGA HOPE Great Parks - League Play Session 1
DESCRIPTION:
URL:https://thesouthernohiopga.com/event/pga-hope-great-parks-league-play-session-1/
CATEGORIES:PGA HOPE
END:VEVENT
END:VCALENDAR