BEGIN:VCALENDAR
VERSION:2.0
PRODID:-//Southern Ohio PGA - ECPv6.15.20//NONSGML v1.0//EN
CALSCALE:GREGORIAN
METHOD:PUBLISH
X-ORIGINAL-URL:https://thesouthernohiopga.com
X-WR-CALDESC:Events for Southern Ohio PGA
REFRESH-INTERVAL;VALUE=DURATION:PT1H
X-Robots-Tag:noindex
X-PUBLISHED-TTL:PT1H
BEGIN:VTIMEZONE
TZID:UTC
BEGIN:STANDARD
TZOFFSETFROM:+0000
TZOFFSETTO:+0000
TZNAME:UTC
DTSTART:20210101T000000
END:STANDARD
END:VTIMEZONE
BEGIN:VEVENT
DTSTART;TZID=UTC:20221208T090000
DTEND;TZID=UTC:20221208T160000
DTSTAMP:20260421T193445
CREATED:20221109T135806Z
LAST-MODIFIED:20221109T135806Z
UID:10000677-1670490000-1670515200@thesouthernohiopga.com
SUMMARY:PGA Specialized Workshop: Teaching & Coaching
DESCRIPTION:
URL:https://thesouthernohiopga.com/event/pga-specialized-workshop-teaching-coaching/2022-12-08/
LOCATION:Golf Club of Dublin\, 5805 Eiterman Road\, Dublin\, OH\, 43016\, United States
CATEGORIES:Education
GEO:40.087214;-83.1735673
X-APPLE-STRUCTURED-LOCATION;VALUE=URI;X-ADDRESS=Golf Club of Dublin 5805 Eiterman Road Dublin OH 43016 United States;X-APPLE-RADIUS=500;X-TITLE=5805 Eiterman Road:geo:-83.1735673,40.087214
END:VEVENT
BEGIN:VEVENT
DTSTART;TZID=UTC:20221209T090000
DTEND;TZID=UTC:20221209T160000
DTSTAMP:20260421T193445
CREATED:20221109T135806Z
LAST-MODIFIED:20221109T135806Z
UID:10000678-1670576400-1670601600@thesouthernohiopga.com
SUMMARY:PGA Specialized Workshop: Teaching & Coaching
DESCRIPTION:
URL:https://thesouthernohiopga.com/event/pga-specialized-workshop-teaching-coaching/2022-12-09/
LOCATION:Golf Club of Dublin\, 5805 Eiterman Road\, Dublin\, OH\, 43016\, United States
CATEGORIES:Education
GEO:40.087214;-83.1735673
X-APPLE-STRUCTURED-LOCATION;VALUE=URI;X-ADDRESS=Golf Club of Dublin 5805 Eiterman Road Dublin OH 43016 United States;X-APPLE-RADIUS=500;X-TITLE=5805 Eiterman Road:geo:-83.1735673,40.087214
END:VEVENT
BEGIN:VEVENT
DTSTART;TZID=UTC:20221213T100000
DTEND;TZID=UTC:20221213T110000
DTSTAMP:20260421T193446
CREATED:20221128T175828Z
LAST-MODIFIED:20221128T181255Z
UID:10000510-1670925600-1670929200@thesouthernohiopga.com
SUMMARY:Get to Know #SOPGAPartner Club Caddie Webinar
DESCRIPTION:Club Caddie GMS (Golf Management Software) is a comprehensive cloud suite equipped to handle every need of public\, semi-private\, & country club golf course operations. Way more than just a POS & tee sheet\, Club Caddie also builds best in class software for country clubs\, driving ranges & golf simulator businesses. The Southern Ohio PGA is thrilled to have the support of our partners from Club Caddie. \nClick here to learn more about Club Caddie.
URL:https://thesouthernohiopga.com/event/get-to-know-sopgapartner-club-caddie-webinar/
CATEGORIES:Education
END:VEVENT
BEGIN:VEVENT
DTSTART;VALUE=DATE:20221224
DTEND;VALUE=DATE:20221226
DTSTAMP:20260421T193446
CREATED:20221128T180704Z
LAST-MODIFIED:20221128T180704Z
UID:10000518-1671840000-1672012799@thesouthernohiopga.com
SUMMARY:Merry Christmas from the Southern Ohio PGA!
DESCRIPTION:
URL:https://thesouthernohiopga.com/event/merry-christmas-from-the-southern-ohio-pga/
CATEGORIES:National Holiday
END:VEVENT
BEGIN:VEVENT
DTSTART;VALUE=DATE:20221231
DTEND;VALUE=DATE:20230102
DTSTAMP:20260421T193446
CREATED:20221128T180748Z
LAST-MODIFIED:20221128T180748Z
UID:10000519-1672444800-1672617599@thesouthernohiopga.com
SUMMARY:Happy New Year from the Southern Ohio PGA!
DESCRIPTION:
URL:https://thesouthernohiopga.com/event/happy-new-year-from-the-southern-ohio-pga/
CATEGORIES:National Holiday
END:VEVENT
END:VCALENDAR