BEGIN:VCALENDAR
VERSION:2.0
PRODID:-//Southern Ohio PGA - ECPv6.15.20//NONSGML v1.0//EN
CALSCALE:GREGORIAN
METHOD:PUBLISH
X-ORIGINAL-URL:https://thesouthernohiopga.com
X-WR-CALDESC:Events for Southern Ohio PGA
REFRESH-INTERVAL;VALUE=DURATION:PT1H
X-Robots-Tag:noindex
X-PUBLISHED-TTL:PT1H
BEGIN:VTIMEZONE
TZID:UTC
BEGIN:STANDARD
TZOFFSETFROM:+0000
TZOFFSETTO:+0000
TZNAME:UTC
DTSTART:20210101T000000
END:STANDARD
END:VTIMEZONE
BEGIN:VEVENT
DTSTART;TZID=UTC:20220705T000000
DTEND;TZID=UTC:20220705T000000
DTSTAMP:20260425T164159
CREATED:20220617T160714Z
LAST-MODIFIED:20220617T160714Z
UID:10000651-1656979200-1656979200@thesouthernohiopga.com
SUMMARY:SOPGA Pro-2 Am (75% HDCP) at Hamilton Elks
DESCRIPTION:
URL:https://thesouthernohiopga.com/event/sopga-pro-2-am-75-hdcp-at-hamilton-elks/
END:VEVENT
BEGIN:VEVENT
DTSTART;TZID=UTC:20220711T000000
DTEND;TZID=UTC:20220711T000000
DTSTAMP:20260425T164159
CREATED:20220617T160714Z
LAST-MODIFIED:20220617T160714Z
UID:10000652-1657497600-1657497600@thesouthernohiopga.com
SUMMARY:Senior/Junior Championship
DESCRIPTION:
URL:https://thesouthernohiopga.com/event/senior-junior-championship-4/
END:VEVENT
BEGIN:VEVENT
DTSTART;TZID=UTC:20220718T000000
DTEND;TZID=UTC:20220718T000000
DTSTAMP:20260425T164159
CREATED:20220617T160714Z
LAST-MODIFIED:20220617T160714Z
UID:10000653-1658102400-1658102400@thesouthernohiopga.com
SUMMARY:SOPGA Sugar Shoot-Out Pro-Scratch
DESCRIPTION:
URL:https://thesouthernohiopga.com/event/sopga-sugar-shoot-out-pro-scratch/
END:VEVENT
BEGIN:VEVENT
DTSTART;TZID=UTC:20220725T000000
DTEND;TZID=UTC:20220725T000000
DTSTAMP:20260425T164159
CREATED:20220617T160714Z
LAST-MODIFIED:20220617T160714Z
UID:10000654-1658707200-1658707200@thesouthernohiopga.com
SUMMARY:SOPGA Section Classic & Associate Tour #5
DESCRIPTION:
URL:https://thesouthernohiopga.com/event/sopga-section-classic-associate-tour-5/
END:VEVENT
END:VCALENDAR