BEGIN:VCALENDAR
VERSION:2.0
PRODID:-//Southern Ohio PGA - ECPv6.15.20//NONSGML v1.0//EN
CALSCALE:GREGORIAN
METHOD:PUBLISH
X-WR-CALNAME:Southern Ohio PGA
X-ORIGINAL-URL:https://thesouthernohiopga.com
X-WR-CALDESC:Events for Southern Ohio PGA
REFRESH-INTERVAL;VALUE=DURATION:PT1H
X-Robots-Tag:noindex
X-PUBLISHED-TTL:PT1H
BEGIN:VTIMEZONE
TZID:UTC
BEGIN:STANDARD
TZOFFSETFROM:+0000
TZOFFSETTO:+0000
TZNAME:UTC
DTSTART:20230101T000000
END:STANDARD
END:VTIMEZONE
BEGIN:VEVENT
DTSTART;TZID=UTC:20240606T000000
DTEND;TZID=UTC:20240606T000000
DTSTAMP:20260423T113651
CREATED:20240221T195113Z
LAST-MODIFIED:20240221T195113Z
UID:10000751-1717632000-1717632000@thesouthernohiopga.com
SUMMARY:PGA HOPE Zanesville
DESCRIPTION:
URL:https://thesouthernohiopga.com/event/pga-hope-zanesville-4/
CATEGORIES:PGA HOPE
END:VEVENT
BEGIN:VEVENT
DTSTART;TZID=UTC:20240608T000000
DTEND;TZID=UTC:20240608T000000
DTSTAMP:20260423T113651
CREATED:20240221T195113Z
LAST-MODIFIED:20240221T195113Z
UID:10000752-1717804800-1717804800@thesouthernohiopga.com
SUMMARY:PGA HOPE Cincinnati - Spring Session
DESCRIPTION:
URL:https://thesouthernohiopga.com/event/pga-hope-cincinnati-spring-session-4/
CATEGORIES:PGA HOPE
END:VEVENT
BEGIN:VEVENT
DTSTART;TZID=UTC:20240610T000000
DTEND;TZID=UTC:20240610T000000
DTSTAMP:20260423T113651
CREATED:20240221T195113Z
LAST-MODIFIED:20240221T195113Z
UID:10000753-1717977600-1717977600@thesouthernohiopga.com
SUMMARY:PGA HOPE Great Parks - League Play Session 1
DESCRIPTION:
URL:https://thesouthernohiopga.com/event/pga-hope-great-parks-league-play-session-1-3/
CATEGORIES:PGA HOPE
END:VEVENT
BEGIN:VEVENT
DTSTART;TZID=UTC:20240613T000000
DTEND;TZID=UTC:20240613T000000
DTSTAMP:20260423T113651
CREATED:20240221T195212Z
LAST-MODIFIED:20240221T195212Z
UID:10000754-1718236800-1718236800@thesouthernohiopga.com
SUMMARY:PGA HOPE Zanesville
DESCRIPTION:
URL:https://thesouthernohiopga.com/event/pga-hope-zanesville-5/
CATEGORIES:PGA HOPE
END:VEVENT
BEGIN:VEVENT
DTSTART;TZID=UTC:20240615T000000
DTEND;TZID=UTC:20240615T000000
DTSTAMP:20260423T113651
CREATED:20240221T195213Z
LAST-MODIFIED:20240221T195213Z
UID:10000755-1718409600-1718409600@thesouthernohiopga.com
SUMMARY:PGA HOPE Cincinnati - Spring Session
DESCRIPTION:
URL:https://thesouthernohiopga.com/event/pga-hope-cincinnati-spring-session-5/
CATEGORIES:PGA HOPE
END:VEVENT
BEGIN:VEVENT
DTSTART;TZID=UTC:20240620T000000
DTEND;TZID=UTC:20240620T000000
DTSTAMP:20260423T113651
CREATED:20240221T195213Z
LAST-MODIFIED:20240221T195213Z
UID:10000756-1718841600-1718841600@thesouthernohiopga.com
SUMMARY:PGA HOPE Zanesville
DESCRIPTION:
URL:https://thesouthernohiopga.com/event/pga-hope-zanesville-6/
CATEGORIES:PGA HOPE
END:VEVENT
BEGIN:VEVENT
DTSTART;TZID=UTC:20240622T000000
DTEND;TZID=UTC:20240622T000000
DTSTAMP:20260423T113651
CREATED:20240221T195214Z
LAST-MODIFIED:20240221T195214Z
UID:10000757-1719014400-1719014400@thesouthernohiopga.com
SUMMARY:PGA HOPE Cincinnati - Spring Session
DESCRIPTION:
URL:https://thesouthernohiopga.com/event/pga-hope-cincinnati-spring-session-6/
CATEGORIES:PGA HOPE
END:VEVENT
BEGIN:VEVENT
DTSTART;TZID=UTC:20240624T000000
DTEND;TZID=UTC:20240624T000000
DTSTAMP:20260423T113651
CREATED:20240221T195214Z
LAST-MODIFIED:20240221T195214Z
UID:10000758-1719187200-1719187200@thesouthernohiopga.com
SUMMARY:PGA HOPE Great Parks - League Play Session 1
DESCRIPTION:
URL:https://thesouthernohiopga.com/event/pga-hope-great-parks-league-play-session-1-4/
CATEGORIES:PGA HOPE
END:VEVENT
END:VCALENDAR