BEGIN:VCALENDAR
VERSION:2.0
PRODID:-//Southern Ohio PGA - ECPv6.15.20//NONSGML v1.0//EN
CALSCALE:GREGORIAN
METHOD:PUBLISH
X-WR-CALNAME:Southern Ohio PGA
X-ORIGINAL-URL:https://thesouthernohiopga.com
X-WR-CALDESC:Events for Southern Ohio PGA
REFRESH-INTERVAL;VALUE=DURATION:PT1H
X-Robots-Tag:noindex
X-PUBLISHED-TTL:PT1H
BEGIN:VTIMEZONE
TZID:UTC
BEGIN:STANDARD
TZOFFSETFROM:+0000
TZOFFSETTO:+0000
TZNAME:UTC
DTSTART:20180101T000000
END:STANDARD
END:VTIMEZONE
BEGIN:VEVENT
DTSTART;VALUE=DATE:20190731
DTEND;VALUE=DATE:20190801
DTSTAMP:20260422T142440
CREATED:20190419T160704Z
LAST-MODIFIED:20190419T160704Z
UID:10000495-1564531200-1564617599@thesouthernohiopga.com
SUMMARY:Futures Tour Championship
DESCRIPTION:
URL:https://thesouthernohiopga.com/event/futures-tour-championship/
CATEGORIES:Futures Tour Event
END:VEVENT
BEGIN:VEVENT
DTSTART;VALUE=DATE:20190726
DTEND;VALUE=DATE:20190727
DTSTAMP:20260422T142440
CREATED:20190419T160704Z
LAST-MODIFIED:20190419T160704Z
UID:10000492-1564099200-1564185599@thesouthernohiopga.com
SUMMARY:Futures Tour #7
DESCRIPTION:
URL:https://thesouthernohiopga.com/event/futures-tour-7/
CATEGORIES:Futures Tour Event
END:VEVENT
BEGIN:VEVENT
DTSTART;VALUE=DATE:20190719
DTEND;VALUE=DATE:20190720
DTSTAMP:20260422T142440
CREATED:20190419T160702Z
LAST-MODIFIED:20190419T160702Z
UID:10000487-1563494400-1563580799@thesouthernohiopga.com
SUMMARY:Futures Tour #6
DESCRIPTION:
URL:https://thesouthernohiopga.com/event/futures-tour-6/
CATEGORIES:Futures Tour Event
END:VEVENT
BEGIN:VEVENT
DTSTART;VALUE=DATE:20190712
DTEND;VALUE=DATE:20190713
DTSTAMP:20260422T142440
CREATED:20190419T160700Z
LAST-MODIFIED:20190419T160700Z
UID:10000474-1562889600-1562975999@thesouthernohiopga.com
SUMMARY:Futures Tour #5
DESCRIPTION:
URL:https://thesouthernohiopga.com/event/futures-tour-5/
CATEGORIES:Futures Tour Event
END:VEVENT
BEGIN:VEVENT
DTSTART;VALUE=DATE:20190628
DTEND;VALUE=DATE:20190629
DTSTAMP:20260422T142440
CREATED:20190419T160659Z
LAST-MODIFIED:20190419T160659Z
UID:10000467-1561680000-1561766399@thesouthernohiopga.com
SUMMARY:Futures Tour #4
DESCRIPTION:
URL:https://thesouthernohiopga.com/event/futures-tour-4/
CATEGORIES:Futures Tour Event
END:VEVENT
BEGIN:VEVENT
DTSTART;VALUE=DATE:20190620
DTEND;VALUE=DATE:20190621
DTSTAMP:20260422T142440
CREATED:20190419T160657Z
LAST-MODIFIED:20190419T160657Z
UID:10000463-1560988800-1561075199@thesouthernohiopga.com
SUMMARY:Futures Tour #3
DESCRIPTION:
URL:https://thesouthernohiopga.com/event/futures-tour-3/
CATEGORIES:Futures Tour Event
END:VEVENT
BEGIN:VEVENT
DTSTART;VALUE=DATE:20190614
DTEND;VALUE=DATE:20190615
DTSTAMP:20260422T142440
CREATED:20190419T160656Z
LAST-MODIFIED:20190419T160656Z
UID:10000460-1560470400-1560556799@thesouthernohiopga.com
SUMMARY:Futures Tour #2
DESCRIPTION:
URL:https://thesouthernohiopga.com/event/futures-tour-2/
CATEGORIES:Futures Tour Event
END:VEVENT
BEGIN:VEVENT
DTSTART;VALUE=DATE:20190607
DTEND;VALUE=DATE:20190608
DTSTAMP:20260422T142440
CREATED:20190419T160655Z
LAST-MODIFIED:20190419T160655Z
UID:10000456-1559865600-1559951999@thesouthernohiopga.com
SUMMARY:Futures Tour #1
DESCRIPTION:
URL:https://thesouthernohiopga.com/event/futures-tour-1/
CATEGORIES:Futures Tour Event
END:VEVENT
END:VCALENDAR