BEGIN:VCALENDAR
VERSION:2.0
PRODID:-//Southern Ohio PGA - ECPv6.15.20//NONSGML v1.0//EN
CALSCALE:GREGORIAN
METHOD:PUBLISH
X-WR-CALNAME:Southern Ohio PGA
X-ORIGINAL-URL:https://thesouthernohiopga.com
X-WR-CALDESC:Events for Southern Ohio PGA
REFRESH-INTERVAL;VALUE=DURATION:PT1H
X-Robots-Tag:noindex
X-PUBLISHED-TTL:PT1H
BEGIN:VTIMEZONE
TZID:UTC
BEGIN:STANDARD
TZOFFSETFROM:+0000
TZOFFSETTO:+0000
TZNAME:UTC
DTSTART:20220101T000000
END:STANDARD
END:VTIMEZONE
BEGIN:VEVENT
DTSTART;TZID=UTC:20230314T100000
DTEND;TZID=UTC:20230314T110000
DTSTAMP:20260420T171120
CREATED:20221128T175830Z
LAST-MODIFIED:20221128T182744Z
UID:10000517-1678788000-1678791600@thesouthernohiopga.com
SUMMARY:Golf Genius: 2023 Updates
DESCRIPTION:Learn about what Golf Genius has in store for the 2023 season and find out what products might be useful at your facility. \nFeaturing: Ben Wolfe\, PGA
URL:https://thesouthernohiopga.com/event/golf-genius-2023-updates/
CATEGORIES:Education
END:VEVENT
END:VCALENDAR