BEGIN:VCALENDAR
VERSION:2.0
PRODID:-//Southern Ohio PGA - ECPv6.15.20//NONSGML v1.0//EN
CALSCALE:GREGORIAN
METHOD:PUBLISH
X-WR-CALNAME:Southern Ohio PGA
X-ORIGINAL-URL:https://thesouthernohiopga.com
X-WR-CALDESC:Events for Southern Ohio PGA
REFRESH-INTERVAL;VALUE=DURATION:PT1H
X-Robots-Tag:noindex
X-PUBLISHED-TTL:PT1H
BEGIN:VTIMEZONE
TZID:UTC
BEGIN:STANDARD
TZOFFSETFROM:+0000
TZOFFSETTO:+0000
TZNAME:UTC
DTSTART:20200101T000000
END:STANDARD
END:VTIMEZONE
BEGIN:VEVENT
DTSTART;VALUE=DATE:20210830
DTEND;VALUE=DATE:20210831
DTSTAMP:20260423T183603
CREATED:20210210T153442Z
LAST-MODIFIED:20210210T153442Z
UID:10000621-1630281600-1630367999@thesouthernohiopga.com
SUMMARY:PGA REACH Southern Ohio Pro-3 Am
DESCRIPTION:
URL:https://thesouthernohiopga.com/event/pga-reach-southern-ohio-pro-3-am-2/
END:VEVENT
END:VCALENDAR